BEGIN:VCALENDAR
VERSION:2.0
PRODID:Imitheme.com 
BEGIN:VEVENT
UID:20260423T2031451176266062
DTSTAMP;TZID=UTC:2026-04-23 20:31:45
DTSTART;TZID=America/Los_Angeles:20260607T000000
DTEND;TZID=America/Los_Angeles:20260607T000000
SUMMARY:Community cuppa
LOCATION:
DESCRIPTION:
URL:https://sheparish.com.au/eventer/community-cuppa-2/
END:VEVENT
END:VCALENDAR
