BEGIN:VCALENDAR
VERSION:2.0
PRODID:Imitheme.com 
BEGIN:VEVENT
UID:20260423T203048157382915
DTSTAMP;TZID=UTC:2026-04-23 20:30:48
DTSTART;TZID=America/Los_Angeles:20260704T000000
DTEND;TZID=America/Los_Angeles:20260704T000000
SUMMARY:Community cuppa
LOCATION:
DESCRIPTION:
URL:https://sheparish.com.au/eventer/community-cuppa/
END:VEVENT
END:VCALENDAR
